BEGIN:VCALENDAR
VERSION:2.0
PRODID:-//W.C. Child  Books - ECPv6.15.20//NONSGML v1.0//EN
CALSCALE:GREGORIAN
METHOD:PUBLISH
X-WR-CALNAME:W.C. Child  Books
X-ORIGINAL-URL:https://wcchildbooks.com
X-WR-CALDESC:Events for W.C. Child  Books
REFRESH-INTERVAL;VALUE=DURATION:PT1H
X-Robots-Tag:noindex
X-PUBLISHED-TTL:PT1H
BEGIN:VTIMEZONE
TZID:UTC
BEGIN:STANDARD
TZOFFSETFROM:+0000
TZOFFSETTO:+0000
TZNAME:UTC
DTSTART:20180101T000000
END:STANDARD
END:VTIMEZONE
BEGIN:VEVENT
DTSTART;TZID=UTC:20200314T100000
DTEND;TZID=UTC:20200314T150000
DTSTAMP:20260423T145004
CREATED:20200227T061449Z
LAST-MODIFIED:20200227T061449Z
UID:1179-1584180000-1584198000@wcchildbooks.com
SUMMARY:Brown Girls Brunching\, Clarksville\,TN
DESCRIPTION:Please join me at my vendor booth during the Brown Girls Brunching empowerment event Saturday\, March 14\, 2020\, from 10:00 am-3:00 pm at the Clarksville Regional Airport\, 200 Airport Rd\, Clarksville\, TN 37042. Speakers include Jessica J.Renee Jones\, Juanita Charles\, Selena Lawrence\, Briana Garza\, Sharon Kay Edwards\, Tangi Smith and Erica Bellamy. You don’t want to miss it!
URL:https://wcchildbooks.com/event/brown-girls-brunching-clarksvilletn/
END:VEVENT
BEGIN:VEVENT
DTSTART;TZID=UTC:20200201T120000
DTEND;TZID=UTC:20200201T170000
DTSTAMP:20260423T145004
CREATED:20200106T004559Z
LAST-MODIFIED:20200122T161217Z
UID:929-1580558400-1580576400@wcchildbooks.com
SUMMARY:Nashville Black Market\, Nashville\, TN
DESCRIPTION:Please join me at my vendor booth in Nashville\, Tn on Saturday\, Feb 1\, 2020. The event is presented as part of Black History Month and focuses on Empowering Black Businesses and Entrepreneurs.
URL:https://wcchildbooks.com/event/nashville-black-market-nashville-tn/
LOCATION:600 28th Ave N\, Nashville\, TN\, 37209\, United States
END:VEVENT
BEGIN:VEVENT
DTSTART;TZID=UTC:20190802T080000
DTEND;TZID=UTC:20190804T170000
DTSTAMP:20260423T145004
CREATED:20191010T004926Z
LAST-MODIFIED:20191010T024949Z
UID:689-1564732800-1564938000@wcchildbooks.com
SUMMARY:17th Annual National Book Club Conference
DESCRIPTION:W.C. Child will be appearing at the 17th Annual National Book Club Conference\, Aug 2-4\, in Atlanta\, GA. The venue for the gathering will be the Intercontinential Hotel in Buckhead. Other authors appearing at the event include Walter Moseley\, Zane\, a personal favorite\, RaShonda Tate Billingsley. Please visit the NBCC website for additional information and archives of the event.
URL:https://wcchildbooks.com/event/17th-annual-national-book-club-conference/
END:VEVENT
BEGIN:VEVENT
DTSTART;TZID=UTC:20190510T120000
DTEND;TZID=UTC:20190510T130000
DTSTAMP:20260423T145004
CREATED:20191010T004819Z
LAST-MODIFIED:20191010T024917Z
UID:687-1557489600-1557493200@wcchildbooks.com
SUMMARY:Women Empowerment (WE) Conference
DESCRIPTION:On May 10\, 2019\, W.C. Child made a guest appearance at the Women Empowerment (WE) Conference in Hopkinsville\, KY. The theme of the event was “The Juggle Struggle”. As part of the program\, she read passages from her book “Not Yet A Woman”. The venue for the event was the James Bruce Center and was hosted by the Minority Economic Development Initiative (MEDI)\, whose Executive Director is Henry Snorten\, III.
URL:https://wcchildbooks.com/event/women-empowerment-we-conference/
END:VEVENT
END:VCALENDAR